BEGIN:VCALENDAR
VERSION:2.0
PRODID:-//Squarespace Inc/Squarespace 6//v6//EN
BEGIN:VEVENT
UID:5e310b0b925807707324f075@squarespace.com
DTSTAMP:20200214T024042Z
DTSTART:20200229T203000Z
DTEND:20200229T223000Z
SUMMARY:Eat Your Drink:      Our Melbourne Cocktail Festival Event 
END:VEVENT
END:VCALENDAR
