BEGIN:VCALENDAR
VERSION:2.0
PRODID:-//Squarespace Inc/Squarespace 6//v6//EN
BEGIN:VEVENT
UID:5dca40745d270f270df18cd2@squarespace.com
DTSTAMP:20200212T034858Z
DTSTART:20200323T220000Z
DTEND:20200324T030000Z
SUMMARY:Estela at Cutler &amp\; Co.
END:VEVENT
END:VCALENDAR
