BEGIN:VCALENDAR
VERSION:2.0
PRODID:-//Squarespace Inc/Squarespace 6//v6//EN
BEGIN:VEVENT
UID:5d525b5082da0a00013d5d7b@squarespace.com
DTSTAMP:20190813T075150Z
DTSTART:20190901T183000Z
DTEND:20190901T213000Z
SUMMARY:Josh Kyle - Jazz in the Bar
END:VEVENT
END:VCALENDAR
