BEGIN:VCALENDAR
VERSION:2.0
PRODID:-//Squarespace Inc/Squarespace 6//v6//EN
BEGIN:VEVENT
UID:5d523584d7c37c00016e75eb@squarespace.com
DTSTAMP:20190813T074051Z
DTSTART:20190901T160000Z
DTEND:20190902T030000Z
SUMMARY:Father's Day
END:VEVENT
END:VCALENDAR
