BEGIN:VCALENDAR
VERSION:2.0
PRODID:-//Squarespace Inc/Squarespace 6//v6//EN
BEGIN:VEVENT
UID:5d6dc88cc6d439000187220f@squarespace.com
DTSTAMP:20200115T055637Z
DTSTART:20191231T220000Z
DTEND:20200101T045900Z
SUMMARY:New Year's Eve at Cutler &amp\; Co.
END:VEVENT
END:VCALENDAR
