BEGIN:VCALENDAR
VERSION:2.0
PRODID:-//Squarespace Inc/Squarespace 6//v6//EN
BEGIN:VEVENT
UID:5daaadc501f002463798cb22@squarespace.com
DTSTAMP:20191031T060730Z
DTSTART:20191104T220000Z
DTEND:20191105T040000Z
SUMMARY:Cup Eve at Cutler &amp\; Co
END:VEVENT
END:VCALENDAR
