BEGIN:VCALENDAR
VERSION:2.0
PRODID:-//Squarespace Inc/Squarespace 6//v6//EN
BEGIN:VEVENT
UID:5d1d935a02bc4000011d61e7@squarespace.com
DTSTAMP:20190813T042032Z
DTSTART:20190701T220000Z
DTEND:20190812T030000Z
SUMMARY:Starward 'Cutler &amp\; Co. Project' Whisky
END:VEVENT
END:VCALENDAR
