BEGIN:VCALENDAR
VERSION:2.0
PRODID:-//Squarespace Inc/Squarespace 6//v6//EN
BEGIN:VEVENT
UID:5d525e8db7cd1f0001c27699@squarespace.com
DTSTAMP:20190823T034914Z
DTSTART:20190824T010000Z
DTEND:20190825T030000Z
SUMMARY:Supper Club at the Cutler &amp\; Co. Bar
END:VEVENT
END:VCALENDAR
