BEGIN:VCALENDAR
VERSION:2.0
PRODID:-//Squarespace Inc/Squarespace 6//v6//EN
BEGIN:VEVENT
UID:5e1bf94a4c275445aaec8716@squarespace.com
DTSTAMP:20200131T014726Z
DTSTART:20200126T170000Z
DTEND:20200127T030000Z
SUMMARY:Feature Wine Producer: Vinteloper
END:VEVENT
END:VCALENDAR
