BEGIN:VCALENDAR
VERSION:2.0
PRODID:-//Squarespace Inc/Squarespace 6//v6//EN
BEGIN:VEVENT
UID:5d351244a38de40001e26915@squarespace.com
DTSTAMP:20200129T043315Z
DTSTART:20190812T220000Z
DTEND:20190813T030000Z
SUMMARY:Winter Game Dinner
END:VEVENT
END:VCALENDAR
