BEGIN:VCALENDAR
VERSION:2.0
PRODID:-//Squarespace Inc/Squarespace 6//v6//EN
BEGIN:VEVENT
UID:5de70cf9379f6e349511a61f@squarespace.com
DTSTAMP:20200113T060536Z
DTSTART:20191229T170000Z
DTEND:20191230T040000Z
SUMMARY:Feature Wine Producer: Xanadu Wines
END:VEVENT
END:VCALENDAR
